BEGIN:VCALENDAR
VERSION:2.0
PRODID:icalendar-ruby
CALSCALE:GREGORIAN
BEGIN:VEVENT
DTSTAMP:20210122T044429Z
UID:a57e38f4-5587-414e-ba87-303a9544903e
DTSTART;TZID=Pacific/Auckland:20210120T130000
DTEND;TZID=Pacific/Auckland:20210120T133000
DESCRIPTION:Property ID# 498555
SUMMARY:Openhome for 134 Racecourse Road
END:VEVENT
END:VCALENDAR
