BEGIN:VCALENDAR
VERSION:2.0
PRODID:icalendar-ruby
CALSCALE:GREGORIAN
BEGIN:VEVENT
DTSTAMP:20210122T044432Z
UID:1c3813dc-b61a-49be-9c47-a7408a435858
DTSTART;VALUE=DATE:20210204
DESCRIPTION:Property ID# 498555\, Locatoin: Harcourts Grenadier\, 98 Moorho
 use Avenue\, Christchurch\, Time: 12:00PM
SUMMARY:Auction for 134 Racecourse Road
END:VEVENT
END:VCALENDAR
