BEGIN:VCALENDAR
VERSION:2.0
PRODID:icalendar-ruby
CALSCALE:GREGORIAN
BEGIN:VEVENT
DTSTAMP:20210122T044433Z
UID:0d91b21f-db5e-4423-acd9-21338b88ce90
DTSTART;VALUE=DATE:20200227
DESCRIPTION:Property ID# 471742\, Locatoin: Harcourts Grenadier\, 98 Moorho
 use Avenue\, Time: 12:00PM
SUMMARY:Auction for 
END:VEVENT
END:VCALENDAR
